BEGIN:VCALENDAR
VERSION:2.0
PRODID:-//hacksw/handcal//NONSGML v1.0//EN
BEGIN:VEVENT
DTSTART:20260501T080000
DTEND:20260502T180000
LOCATION:SALON DE PROVENCE \nGolf BA 701 \n13661 SALON DE PROVENCE
ORGANIZER;CN=Louis PENA:MAILTO:louipena@aol.com
SUMMARY:4ème édition de la Ride Air Cup de golf
DESCRIPTION:2026 verra la quatrième édition de la Ride Air Cup ; la compétition se déroulera les 1er (foursome) et 2 mai (individuels) sur le golf de Salon de ProvenceLes bleus mènent deux victoires à une. Les...
URL:https://www.aea.asso.fr/fr/event/4eme-edition-de-la-ride-air-cup-de-golf/2026/05/01/533
BEGIN:VALARM
TRIGGER:-P0DT1H0M0S
ACTION:DISPLAY
END:VALARM
END:VEVENT
END:VCALENDAR