BEGIN:VCALENDAR
VERSION:2.0
PRODID:-//hacksw/handcal//NONSGML v1.0//EN
BEGIN:VEVENT
DTSTART:20260918T080000
DTEND:20260920T230000
LOCATION:Salon de Provence \nEcole de l'Air \n13300 Salon de Provence
ORGANIZER;CN=Gérard BASTIER (de):MAILTO:gerard.debastier@wanadoo.fr
SUMMARY:60eme anniversaire Promo 66
DESCRIPTION:Bonjour aux camarades de la promo 66 Audemard d'AlançonLa célébration du 60eme anniversaire se tiendra à l’École de l'Air et de l'Espace le vendredi 18 septembre 2026 avec un programme en cours...
URL:https://www.aea.asso.fr/fr/event/60eme-anniversaire-promo-66/2026/09/18/519
BEGIN:VALARM
TRIGGER:-P0DT1H0M0S
ACTION:DISPLAY
END:VALARM
END:VEVENT
END:VCALENDAR