BEGIN:VCALENDAR
VERSION:2.0
PRODID:-//hacksw/handcal//NONSGML v1.0//EN
BEGIN:VEVENT
DTSTART:20250605T163000
DTEND:20250605T183000
LOCATION:Salons Hoche \n75008 PARIS
ORGANIZER;CN=Délégué AEA:MAILTO:delegue@aea.asso.fr
SUMMARY:Assemblée générale des Ailes Brisées
DESCRIPTION:\n
URL:https://www.aea.asso.fr/fr/event/assemblee-generale-des-ailes-brisees/2025/06/05/476
BEGIN:VALARM
TRIGGER:-P0DT1H0M0S
ACTION:DISPLAY
END:VALARM
END:VEVENT
END:VCALENDAR