BEGIN:VCALENDAR
VERSION:2.0
PRODID:-//hacksw/handcal//NONSGML v1.0//EN
BEGIN:VEVENT
DTSTART:20250221T183000
DTEND:20250221T200000
LOCATION:Aéro-Club de France \nSalon Dorand, 6 rue Galilée \n75116 Paris
ORGANIZER;CN=Secrétaire AEA:MAILTO:secretariat@aea.asso.fr
SUMMARY:Conférence "habitats en milieux extrêmes"
DESCRIPTION:Commission Astronautique de l’Aéro-Club de FranceConférence – Table rondeHabitats en milieux extrêmesTable ronde avecl’Amiral Pierre-François Forrissier, ancien chef d’état major de la marine et...
URL:https://www.aea.asso.fr/fr/event/conference-habitats-en-milieux-extremes/2025/02/21/468
BEGIN:VALARM
TRIGGER:-P0DT1H0M0S
ACTION:DISPLAY
END:VALARM
END:VEVENT
END:VCALENDAR