BEGIN:VCALENDAR
VERSION:2.0
PRODID:-//hacksw/handcal//NONSGML v1.0//EN
BEGIN:VEVENT
DTSTART:20211130T180000
DTEND:20211130T220000
LOCATION:Amphi Esga - Ecole militaire \n1 place Joffre \n75007 PARIS
ORGANIZER;CN=Délégué AEA:MAILTO:delegue@aea.asso.fr
SUMMARY:Débat AEA#5 : Les enjeux de l'Espace
DESCRIPTION:Michel Tognini (EA70-Delfino) répond aux questions de Michel Polacco et de l'auditoire en ligne depuis l’École militaire le mardi 30 octobre de 18h00 à  19h00  sur le thème :"L'espace, quels enjeux...
URL:https://www.aea.asso.fr/fr/event/debat-aea-5-les-enjeux-de-l-espace/2021/11/30/280
BEGIN:VALARM
TRIGGER:-P0DT1H0M0S
ACTION:DISPLAY
END:VALARM
END:VEVENT
END:VCALENDAR