BEGIN:VCALENDAR
VERSION:2.0
PRODID:-//hacksw/handcal//NONSGML v1.0//EN
BEGIN:VEVENT
DTSTART:20211206T180000
DTEND:20211206T190000
LOCATION:Siège AEA - Boulogne Billancourt \nBoulogne-Billancourt \n92100 BOULOGNE BILLANCOURT
ORGANIZER;CN=Délégué AEA:MAILTO:delegue@aea.asso.fr
SUMMARY:Assemblée générale extraordinaire AEA
DESCRIPTION:Le conseil d'administration a le plaisir de vous convoquer à une Assemblée générale extraordinaire de l'AEA. \nCelle-ci aura lieu le lundi 06 décembre 2021 à 18h00 à Boulogne-Billancourt au Siège de...
URL:https://www.aea.asso.fr/fr/event/assemblee-generale-extraordinaire-aea/2021/12/06/277
BEGIN:VALARM
TRIGGER:-P0DT1H0M0S
ACTION:DISPLAY
END:VALARM
END:VEVENT
END:VCALENDAR