BEGIN:VCALENDAR
VERSION:2.0
PRODID:-//hacksw/handcal//NONSGML v1.0//EN
BEGIN:VEVENT
DTSTART:20211210T083000
DTEND:20211210T100000
LOCATION:Medef
ORGANIZER;CN=Délégué AEA:MAILTO:delegue@aea.asso.fr
SUMMARY:Matinale "Chasseur de tête"
DESCRIPTION:Le Comité de Liaison Défense (CLD) organise une matinale vendredi 10 décembre 2021 de 8h30 à 10h00, qui aura pour thématique : « la chasse de tête » :Il s’agira d’une conférence pédagogique sous forme...
URL:https://www.aea.asso.fr/fr/event/matinale-chasseur-de-tete/2021/12/10/271
BEGIN:VALARM
TRIGGER:-P0DT1H0M0S
ACTION:DISPLAY
END:VALARM
END:VEVENT
END:VCALENDAR