BEGIN:VCALENDAR
VERSION:2.0
PRODID:-//hacksw/handcal//NONSGML v1.0//EN
BEGIN:VEVENT
DTSTART:20211004T185500
DTEND:20211119T190000
LOCATION:www.aea.asso.fr
ORGANIZER;CN=Délégué AEA:MAILTO:delegue@aea.asso.fr
SUMMARY:Carnet de vol 2021 et Tombola du gala
DESCRIPTION:\nEt pour tout achat en ligne... jusqu'à 10 billets avec un seul carnet de vol !
URL:https://www.aea.asso.fr/fr/event/carnet-de-vol-2021-et-tombola-du-gala/2021/10/04/266
BEGIN:VALARM
TRIGGER:-P0DT1H0M0S
ACTION:DISPLAY
END:VALARM
END:VEVENT
END:VCALENDAR