BEGIN:VCALENDAR
VERSION:2.0
PRODID:-//hacksw/handcal//NONSGML v1.0//EN
BEGIN:VEVENT
DTSTART:20211119T193000
DTEND:20211120T030000
LOCATION:Hôtel Intercontinental \n1, Rue Auber \n75009 PARIS
ORGANIZER;CN=Délégué AEA:MAILTO:delegue@aea.asso.fr
SUMMARY:Gala d'Entraide de l'AEA
DESCRIPTION:Les inscriptions sont à présent closes. Contacter le secrétariat pour les demandes particulières.19 novembre : Après reports et annulations, conséquences de la crise sanitaire, le traditionnel gala de...
URL:https://www.aea.asso.fr/fr/event/gala-d-entraide-de-l-aea/2021/11/19/260
BEGIN:VALARM
TRIGGER:-P0DT1H0M0S
ACTION:DISPLAY
END:VALARM
END:VEVENT
END:VCALENDAR