BEGIN:VCALENDAR
VERSION:2.0
PRODID:-//hacksw/handcal//NONSGML v1.0//EN
BEGIN:VEVENT
DTSTART:20191207T110000
DTEND:20191207T140500
LOCATION:Neuilly sur Seine \n96 avenue Achille Peretti \n92522 Neuilly sur Seine
ORGANIZER;CN=Jean-Pascal DELCOURT:MAILTO:contact@aea.asso.fr
SUMMARY:Hommage à Jean MERMOZ
DESCRIPTION:Le maire de Neuilly-sur-Seine, le président de l'association des professionnels navigants de l'aviation (APNA) et le conseil municipal ont l'honneur de vous inviter à la cérémonie annuelle d'hommage à...
URL:https://www.aea.asso.fr/fr/event/hommage-a-jean-mermoz/2019/12/07/196
BEGIN:VALARM
TRIGGER:-P0DT1H0M0S
ACTION:DISPLAY
END:VALARM
END:VEVENT
END:VCALENDAR